BEGIN:VCALENDAR
VERSION:2.0
PRODID:-//Work Local - ECPv6.15.16//NONSGML v1.0//EN
CALSCALE:GREGORIAN
METHOD:PUBLISH
X-WR-CALNAME:Work Local
X-ORIGINAL-URL:https://theworklocal.com
X-WR-CALDESC:Events for Work Local
REFRESH-INTERVAL;VALUE=DURATION:PT1H
X-Robots-Tag:noindex
X-PUBLISHED-TTL:PT1H
BEGIN:VTIMEZONE
TZID:UTC
BEGIN:STANDARD
TZOFFSETFROM:+0000
TZOFFSETTO:+0000
TZNAME:UTC
DTSTART:20240101T000000
END:STANDARD
END:VTIMEZONE
BEGIN:VEVENT
DTSTART;TZID=UTC:20251207T140000
DTEND;TZID=UTC:20251207T173000
DTSTAMP:20260419T192459
CREATED:20260216T085307Z
LAST-MODIFIED:20260331T063537Z
UID:1011-1765116000-1765128600@theworklocal.com
SUMMARY:Clay Sculpting Workshop
DESCRIPTION:
URL:https://theworklocal.com/event/build-a-being/
END:VEVENT
END:VCALENDAR